BEGIN:VCALENDAR
VERSION:2.0
PRODID:https://kyudotermine.de/
BEGIN:VEVENT
UID:945@kyuvb.de
SUMMARY:Bayerische Meisterschaften
DESCRIPTION:37. Bayerische Meisterschaften mit Einzel- und Mannschaftswertung
CLASS:PUBLIC
DTSTART;VALUE=DATE:20250406
DTEND;VALUE=DATE:20250407
DTSTAMP:20260424T195702Z
LOCATION:Erlangen
URL:https://kyudotermine.de/detail.php?id=945
ATTACH;FMTTYPE=application/pdf:https://kyuvb.de/../media/events/945/Ausschreibung_Bay_Meist_2025_Erlangen.pdf
END:VEVENT
END:VCALENDAR
